BEGIN:VCALENDAR
VERSION:2.0
PRODID:-//With Mrs. B. - ECPv6.15.20//NONSGML v1.0//EN
CALSCALE:GREGORIAN
METHOD:PUBLISH
X-WR-CALNAME:With Mrs. B.
X-ORIGINAL-URL:https://withmrsb.com
X-WR-CALDESC:Events for With Mrs. B.
REFRESH-INTERVAL;VALUE=DURATION:PT1H
X-Robots-Tag:noindex
X-PUBLISHED-TTL:PT1H
BEGIN:VTIMEZONE
TZID:America/Detroit
BEGIN:DAYLIGHT
TZOFFSETFROM:-0500
TZOFFSETTO:-0400
TZNAME:EDT
DTSTART:20220313T070000
END:DAYLIGHT
BEGIN:STANDARD
TZOFFSETFROM:-0400
TZOFFSETTO:-0500
TZNAME:EST
DTSTART:20221106T060000
END:STANDARD
BEGIN:DAYLIGHT
TZOFFSETFROM:-0500
TZOFFSETTO:-0400
TZNAME:EDT
DTSTART:20230312T070000
END:DAYLIGHT
BEGIN:STANDARD
TZOFFSETFROM:-0400
TZOFFSETTO:-0500
TZNAME:EST
DTSTART:20231105T060000
END:STANDARD
BEGIN:DAYLIGHT
TZOFFSETFROM:-0500
TZOFFSETTO:-0400
TZNAME:EDT
DTSTART:20240310T070000
END:DAYLIGHT
BEGIN:STANDARD
TZOFFSETFROM:-0400
TZOFFSETTO:-0500
TZNAME:EST
DTSTART:20241103T060000
END:STANDARD
BEGIN:DAYLIGHT
TZOFFSETFROM:-0500
TZOFFSETTO:-0400
TZNAME:EDT
DTSTART:20250309T070000
END:DAYLIGHT
BEGIN:STANDARD
TZOFFSETFROM:-0400
TZOFFSETTO:-0500
TZNAME:EST
DTSTART:20251102T060000
END:STANDARD
BEGIN:DAYLIGHT
TZOFFSETFROM:-0500
TZOFFSETTO:-0400
TZNAME:EDT
DTSTART:20260308T070000
END:DAYLIGHT
BEGIN:STANDARD
TZOFFSETFROM:-0400
TZOFFSETTO:-0500
TZNAME:EST
DTSTART:20261101T060000
END:STANDARD
END:VTIMEZONE
BEGIN:VEVENT
DTSTART;TZID=America/Detroit:20250207T110000
DTEND;TZID=America/Detroit:20250209T090000
DTSTAMP:20260425T093331
CREATED:20241209T214536Z
LAST-MODIFIED:20241231T022259Z
UID:107054-1738926000-1739091600@withmrsb.com
SUMMARY:Build A Life You Love: Unlock the POWER Within Weekend Retreat
DESCRIPTION:RETREAT INFO AND REGISTRATION HERE
URL:https://withmrsb.com/event/build-a-life-you-love-unlock-the-power-within-weekend-retreat/
LOCATION:The Collins off Main\, 120 W. Middle Street\, Chelsea\, MI\, 48130\, United States
CATEGORIES:Retreat Event
ATTACH;FMTTYPE=image/png:https://withmrsb.com/wp-content/uploads/2024/12/Screenshot-2024-12-09-at-3.45.20 PM.png
ORGANIZER;CN="D. Boquette (Mrs. B.)":MAILTO:mrsb@withmrsb.com
END:VEVENT
BEGIN:VEVENT
DTSTART;TZID=America/Detroit:20250126T150000
DTEND;TZID=America/Detroit:20250126T173000
DTSTAMP:20260425T093331
CREATED:20241231T012009Z
LAST-MODIFIED:20241231T023437Z
UID:107099-1737903600-1737912600@withmrsb.com
SUMMARY:Living in Possibility: The Power Of Surrender FREE Masterclass
DESCRIPTION:What if everything you’ve ever dreamed of is on the other side of surrender? Join me for an inspiring and transformative Masterclass on Living in Possibility. We’ll explore the freedom and breakthroughs from letting go of fear\, control\, self-doubt\, and past experiences. When you surrender to what’s possible\, the universe opens up to meet you in ways you never imagined. You get to create a life of limitless creation + opportunity. It’s time to let go. It’s time to live in possibility.\n			\n				Register Here
URL:https://withmrsb.com/event/living-in-possibility-the-power-of-surrender-free-masterclass/
LOCATION:Virtual Online-Registration Required
CATEGORIES:Online Event (Free)
ATTACH;FMTTYPE=image/png:https://withmrsb.com/wp-content/uploads/2024/12/Thesis-MasterClass-The-Power-of-Surrender.png
ORGANIZER;CN="D. Boquette (Mrs. B.)":MAILTO:mrsb@withmrsb.com
END:VEVENT
BEGIN:VEVENT
DTSTART;TZID=America/Detroit:20240418T170000
DTEND;TZID=America/Detroit:20240418T190000
DTSTAMP:20260425T093331
CREATED:20240405T015513Z
LAST-MODIFIED:20240409T211722Z
UID:106632-1713459600-1713466800@withmrsb.com
SUMMARY:Transformation is Trending ~ An Evening With The Sun Times News
DESCRIPTION:Come experience an evening of transformation and community spirit at “Transformation is Trending~An Evening with The Sun Times News” Hosted by Dexter’s very own Chuck Colby\, owner of The Sun Times News\, \nJoin us at The Sun Times News offices above the PNC bank in Dexter for an unforgettable gathering. Enjoy delicious appetizers from Chelsea Catering/Grateful Crow\, listen to music\, and be inspired by Dexter resident and author Danielle Boquette as she shares excerpts from her inspiring book\, “Note To Self.” \nMingle with neighbors\, snag a signed copy of Danielle’s book\, and explore her inspirational merchandise\, including the newly designed transformation butterfly necklace by Jewelry Set In Stone (Chelsea).  Let’s celebrate the magic of transformation together!
URL:https://withmrsb.com/event/transformation-is-trending-an-evening-with-the-sun-times-news/
LOCATION:Sun Times News Offices (above PNC Bank)\, 8123 Main Street Second Floor\, Dexter\, MI\, 48130\, United States
CATEGORIES:Book Event
ATTACH;FMTTYPE=image/png:https://withmrsb.com/wp-content/uploads/2024/04/Screenshot-2024-04-04-at-9.43.07 PM.png
ORGANIZER;CN="With Mrs B + Sun Times News":MAILTO:hello@withmrsb.com
END:VEVENT
BEGIN:VEVENT
DTSTART;TZID=America/Detroit:20240321T170000
DTEND;TZID=America/Detroit:20240321T190000
DTSTAMP:20260425T093331
CREATED:20240228T170254Z
LAST-MODIFIED:20241231T022451Z
UID:106545-1711040400-1711047600@withmrsb.com
SUMMARY:Writing Your Own Story- An evening with local Author + Jeweler Showcase
DESCRIPTION:March is the month we celebrate Write Your Own Story! Did you know there is a day dedicated to that? Me neither! But what an amazing opportunity to celebrate the beautiful story inside each of us! \nAs I continue to share my new book\, NOTE TO SELF\, I am thrilled to collaborate with Stephen Kolokithas to host an evening of connection and beauty dedicated to you and your story! \nJoin us for hors d’oeuvres and traditional + zero-proof cocktails\, and learn more about our stories! Signed copies of Note to Self are available\, and the ability to purchase the new design Stephen has created to celebrate Danielle’s (aka Mrs. B.) mission to lead others in transformation and growth. \nEnter to win a copy of Note To Self with a Custom-made Butterfly Pendant! \n\n  \n  \n 
URL:https://withmrsb.com/event/writing-your-own-story-an-evening-with-local-author-jeweler-showcase/
LOCATION:Jewelery Set In Stone\, 310 N Main St. Suite 202A\, Chelsea\, MI\, 48118\, United States
CATEGORIES:Book Event
ATTACH;FMTTYPE=image/png:https://withmrsb.com/wp-content/uploads/2024/02/Write-your-own-story-1-1.png
END:VEVENT
BEGIN:VEVENT
DTSTART;TZID=America/Detroit:20231129T170000
DTEND;TZID=America/Detroit:20231129T190000
DTSTAMP:20260425T093331
CREATED:20231111T165018Z
LAST-MODIFIED:20241231T022515Z
UID:106313-1701277200-1701284400@withmrsb.com
SUMMARY:Note To Self Live Launch + Book Signing Party
DESCRIPTION:Join Us!  \nWe will be at the Filmore Bar + Grill in Dexter celebrating the launch of Note to Self – life truths + self-reflection \nWhat you can expect: \n\nAppetizers provided\nFull menu and drinks available to purchase\nDanielle will share her inspiration for the book\, a bit of her own journey\, and read a bit from the book\nBring your copy of Note to Self to have it signed/personalized\nLimited copies of the book and exclusive launch bundle boxes available for purchase
URL:https://withmrsb.com/event/note-to-self-live-launch-book-signing-party/
LOCATION:Filmore Bar + Grill\, Dexter\, MI\, 7954 Ann Arbor St\, Dexter\, MI\, 48130\, United States
CATEGORIES:Book Event
ATTACH;FMTTYPE=image/png:https://withmrsb.com/wp-content/uploads/2023/11/Meet-the-Author-Book-Signing-.png
ORGANIZER;CN="D. Boquette (Mrs. B.)":MAILTO:mrsb@withmrsb.com
END:VEVENT
BEGIN:VEVENT
DTSTART;TZID=America/Detroit:20231115T120000
DTEND;TZID=America/Detroit:20231115T130000
DTSTAMP:20260425T093331
CREATED:20231109T234604Z
LAST-MODIFIED:20241231T022612Z
UID:106303-1700049600-1700053200@withmrsb.com
SUMMARY:Note to Self Virtual Zoom Launch Party
DESCRIPTION:Join me and my small but mighty team as we celebrate the launch of Note to Self. What can you expect? \n\nMusic\, of course!\nSharing my gratitude and a bit from the book…\nA photo slideshow of the journey from tee shirts\, to podcast\, to book!\nGet a peek at Limited Launch Gift Bundles!\nGuest Q+A\nDance Party!
URL:https://withmrsb.com/event/note-to-self-virtual-zoom-launch-party/
CATEGORIES:Online Event (Free)
ATTACH;FMTTYPE=image/png:https://withmrsb.com/wp-content/uploads/2023/11/Launch-Party-poststhumbnail-image.png
ORGANIZER;CN="D. Boquette (Mrs. B.)":MAILTO:mrsb@withmrsb.com
END:VEVENT
END:VCALENDAR